BEGIN:VCALENDAR
VERSION:2.0
PRODID:-//MLKCC - ECPv6.15.20//NONSGML v1.0//EN
CALSCALE:GREGORIAN
METHOD:PUBLISH
X-WR-CALNAME:MLKCC
X-ORIGINAL-URL:https://mlkcc.org
X-WR-CALDESC:Events for MLKCC
REFRESH-INTERVAL;VALUE=DURATION:PT1H
X-Robots-Tag:noindex
X-PUBLISHED-TTL:PT1H
BEGIN:VTIMEZONE
TZID:America/Chicago
BEGIN:DAYLIGHT
TZOFFSETFROM:-0600
TZOFFSETTO:-0500
TZNAME:CDT
DTSTART:20250309T080000
END:DAYLIGHT
BEGIN:STANDARD
TZOFFSETFROM:-0500
TZOFFSETTO:-0600
TZNAME:CST
DTSTART:20251102T070000
END:STANDARD
BEGIN:DAYLIGHT
TZOFFSETFROM:-0600
TZOFFSETTO:-0500
TZNAME:CDT
DTSTART:20260308T080000
END:DAYLIGHT
BEGIN:STANDARD
TZOFFSETFROM:-0500
TZOFFSETTO:-0600
TZNAME:CST
DTSTART:20261101T070000
END:STANDARD
BEGIN:DAYLIGHT
TZOFFSETFROM:-0600
TZOFFSETTO:-0500
TZNAME:CDT
DTSTART:20270314T080000
END:DAYLIGHT
BEGIN:STANDARD
TZOFFSETFROM:-0500
TZOFFSETTO:-0600
TZNAME:CST
DTSTART:20271107T070000
END:STANDARD
END:VTIMEZONE
BEGIN:VEVENT
DTSTART;TZID=America/Chicago:20260226T183000
DTEND;TZID=America/Chicago:20260226T200000
DTSTAMP:20260424T082611
CREATED:20220808T230558Z
LAST-MODIFIED:20251212T123314Z
UID:2852-1772130600-1772136000@mlkcc.org
SUMMARY:Poster & Essay Contest Awards Presentation
DESCRIPTION:
URL:https://mlkcc.org/event/poster-essay-contest-awards-presentation/
LOCATION:Brazosport College – Gator Room\, 500 College Blvd\, Lake Jackson\, TX\, 77566\, United States
CATEGORIES:Outreach
ATTACH;FMTTYPE=image/jpeg:https://mlkcc.org/wp-content/uploads/2025/03/2025_Poster-Essay-40.jpg
END:VEVENT
BEGIN:VEVENT
DTSTART;TZID=America/Chicago:20260130T160000
DTEND;TZID=America/Chicago:20260130T160000
DTSTAMP:20260424T082611
CREATED:20230728T215331Z
LAST-MODIFIED:20251212T123352Z
UID:3503-1769788800-1769788800@mlkcc.org
SUMMARY:Poster Contest Entry Deadline
DESCRIPTION:
URL:https://mlkcc.org/event/poster-contest-entry-deadline/
LOCATION:TX
CATEGORIES:Outreach
ATTACH;FMTTYPE=image/jpeg:https://mlkcc.org/wp-content/uploads/2025/11/2006_MLKCC-Poster-Contest.jpg
END:VEVENT
BEGIN:VEVENT
DTSTART;TZID=America/Chicago:20260130T160000
DTEND;TZID=America/Chicago:20260130T160000
DTSTAMP:20260424T082611
CREATED:20230728T215117Z
LAST-MODIFIED:20251212T123419Z
UID:3501-1769788800-1769788800@mlkcc.org
SUMMARY:Essay Contest Entry Deadline
DESCRIPTION:
URL:https://mlkcc.org/event/essay-contest-entry-deadline/
LOCATION:TX
CATEGORIES:Outreach
ATTACH;FMTTYPE=image/jpeg:https://mlkcc.org/wp-content/uploads/2025/11/2006_MLKCC-Essay-Contest.jpg
END:VEVENT
BEGIN:VEVENT
DTSTART;TZID=America/Chicago:20260119T110000
DTEND;TZID=America/Chicago:20260119T170000
DTSTAMP:20260424T082611
CREATED:20210823T014159Z
LAST-MODIFIED:20251212T123434Z
UID:2386-1768820400-1768842000@mlkcc.org
SUMMARY:Grand Parade & Festival
DESCRIPTION:
URL:https://mlkcc.org/event/mlk-parade-and-festival/
LOCATION:Freeport Municipal Park\, 421 N Brazosport Blvd\, Freeport\, TX\, 77541\, United States
CATEGORIES:MLK Celebration,Outreach
ATTACH;FMTTYPE=image/jpeg:https://mlkcc.org/wp-content/uploads/2025/11/2006_MLKCC-Parade.jpg
END:VEVENT
BEGIN:VEVENT
DTSTART;TZID=America/Chicago:20260117T180000
DTEND;TZID=America/Chicago:20260117T220000
DTSTAMP:20260424T082611
CREATED:20230728T214914Z
LAST-MODIFIED:20251212T123456Z
UID:3499-1768672800-1768687200@mlkcc.org
SUMMARY:Commemorative Banquet
DESCRIPTION:
URL:https://mlkcc.org/event/commemorative-banquet-2/
LOCATION:Dow Academic Center\, 500 College Blvd\, Lake Jackson\, 77566\, United States
CATEGORIES:MLK Celebration,Outreach
ATTACH;FMTTYPE=image/jpeg:https://mlkcc.org/wp-content/uploads/2025/11/2006_MLKCC-Scholarship-Banquet.jpg
END:VEVENT
BEGIN:VEVENT
DTSTART;TZID=America/Chicago:20260115T190000
DTEND;TZID=America/Chicago:20260115T210000
DTSTAMP:20260424T082611
CREATED:20230728T220227Z
LAST-MODIFIED:20251212T123518Z
UID:3507-1768503600-1768510800@mlkcc.org
SUMMARY:Community Worship Service
DESCRIPTION:
URL:https://mlkcc.org/event/community-worship-service/
LOCATION:First Missionary Baptist Church\, 522 W Live Oak Street\, Angleton\, TX\, 77515\, United States
CATEGORIES:MLK Celebration,Outreach
ATTACH;FMTTYPE=image/jpeg:https://mlkcc.org/wp-content/uploads/2025/11/2006_MLKCC-Worship.jpg
END:VEVENT
BEGIN:VEVENT
DTSTART;TZID=America/Chicago:20260110T170000
DTEND;TZID=America/Chicago:20260110T190000
DTSTAMP:20260424T082611
CREATED:20230728T220044Z
LAST-MODIFIED:20251221T012622Z
UID:3505-1768064400-1768071600@mlkcc.org
SUMMARY:Musical Celebration
DESCRIPTION:
URL:https://mlkcc.org/event/musical-celebration/
LOCATION:Greater Mount Zion Church\, 6437 FM 521 Road\, Brazoria\, TX\, 77422\, United States
CATEGORIES:MLK Celebration,Outreach
ATTACH;FMTTYPE=image/jpeg:https://mlkcc.org/wp-content/uploads/2025/12/2006_MLKCC-Music-Celebration1.jpg
END:VEVENT
BEGIN:VEVENT
DTSTART;TZID=America/Chicago:20260109T190000
DTEND;TZID=America/Chicago:20260109T210000
DTSTAMP:20260424T082611
CREATED:20251212T115714Z
LAST-MODIFIED:20251212T115714Z
UID:6332-1767985200-1767992400@mlkcc.org
SUMMARY:Youth Choir Rehearsal
DESCRIPTION:
URL:https://mlkcc.org/event/youth-choir-rehearsal-2/
LOCATION:Greater Mount Zion Church\, 6437 FM 521 Road\, Brazoria\, TX\, 77422\, United States
CATEGORIES:MLK Celebration
END:VEVENT
BEGIN:VEVENT
DTSTART;TZID=America/Chicago:20260109T190000
DTEND;TZID=America/Chicago:20260109T210000
DTSTAMP:20260424T082611
CREATED:20210823T012843Z
LAST-MODIFIED:20251212T113729Z
UID:2376-1767985200-1767992400@mlkcc.org
SUMMARY:Choir Rehearsal
DESCRIPTION:
URL:https://mlkcc.org/event/mlk-choir-rehearsals-3/
LOCATION:Greater Mount Zion Church\, 6437 FM 521 Road\, Brazoria\, TX\, 77422\, United States
CATEGORIES:MLK Celebration
END:VEVENT
BEGIN:VEVENT
DTSTART;TZID=America/Chicago:20260108T190000
DTEND;TZID=America/Chicago:20260108T210000
DTSTAMP:20260424T082611
CREATED:20210823T012723Z
LAST-MODIFIED:20251212T113645Z
UID:2374-1767898800-1767906000@mlkcc.org
SUMMARY:Choir Rehearsal
DESCRIPTION:
URL:https://mlkcc.org/event/mlk-choir-rehearsals-2/
LOCATION:Greater Mount Zion Church\, 6437 FM 521 Road\, Brazoria\, TX\, 77422\, United States
CATEGORIES:MLK Celebration
END:VEVENT
BEGIN:VEVENT
DTSTART;TZID=America/Chicago:20260106T190000
DTEND;TZID=America/Chicago:20260106T210000
DTSTAMP:20260424T082611
CREATED:20210823T011937Z
LAST-MODIFIED:20251212T113626Z
UID:2370-1767726000-1767733200@mlkcc.org
SUMMARY:Choir Rehearsal
DESCRIPTION:
URL:https://mlkcc.org/event/mlk-choir-rehearsals/
LOCATION:Greater Mount Zion Church\, 6437 FM 521 Road\, Brazoria\, TX\, 77422\, United States
CATEGORIES:MLK Celebration
END:VEVENT
BEGIN:VEVENT
DTSTART;TZID=America/Chicago:20260103T100000
DTEND;TZID=America/Chicago:20260103T120000
DTSTAMP:20260424T082611
CREATED:20251212T114958Z
LAST-MODIFIED:20251212T114958Z
UID:6330-1767434400-1767441600@mlkcc.org
SUMMARY:Youth Choir Rehearsal
DESCRIPTION:
URL:https://mlkcc.org/event/youth-choir-rehearsal/
LOCATION:Greater Mount Zion Church\, 6437 FM 521 Road\, Brazoria\, TX\, 77422\, United States
CATEGORIES:MLK Celebration
END:VEVENT
END:VCALENDAR